BEGIN:VCALENDAR
VERSION:2.0
PRODID:-//United Way Halifax - ECPv6.15.20//NONSGML v1.0//EN
CALSCALE:GREGORIAN
METHOD:PUBLISH
X-WR-CALNAME:United Way Halifax
X-ORIGINAL-URL:https://www.unitedwayhalifax.ca
X-WR-CALDESC:Events for United Way Halifax
REFRESH-INTERVAL;VALUE=DURATION:PT1H
X-Robots-Tag:noindex
X-PUBLISHED-TTL:PT1H
BEGIN:VTIMEZONE
TZID:America/Halifax
BEGIN:DAYLIGHT
TZOFFSETFROM:-0400
TZOFFSETTO:-0300
TZNAME:ADT
DTSTART:20190310T060000
END:DAYLIGHT
BEGIN:STANDARD
TZOFFSETFROM:-0300
TZOFFSETTO:-0400
TZNAME:AST
DTSTART:20191103T050000
END:STANDARD
BEGIN:DAYLIGHT
TZOFFSETFROM:-0400
TZOFFSETTO:-0300
TZNAME:ADT
DTSTART:20200308T060000
END:DAYLIGHT
BEGIN:STANDARD
TZOFFSETFROM:-0300
TZOFFSETTO:-0400
TZNAME:AST
DTSTART:20201101T050000
END:STANDARD
BEGIN:DAYLIGHT
TZOFFSETFROM:-0400
TZOFFSETTO:-0300
TZNAME:ADT
DTSTART:20210314T060000
END:DAYLIGHT
BEGIN:STANDARD
TZOFFSETFROM:-0300
TZOFFSETTO:-0400
TZNAME:AST
DTSTART:20211107T050000
END:STANDARD
BEGIN:DAYLIGHT
TZOFFSETFROM:-0400
TZOFFSETTO:-0300
TZNAME:ADT
DTSTART:20220313T060000
END:DAYLIGHT
BEGIN:STANDARD
TZOFFSETFROM:-0300
TZOFFSETTO:-0400
TZNAME:AST
DTSTART:20221106T050000
END:STANDARD
BEGIN:DAYLIGHT
TZOFFSETFROM:-0400
TZOFFSETTO:-0300
TZNAME:ADT
DTSTART:20230312T060000
END:DAYLIGHT
BEGIN:STANDARD
TZOFFSETFROM:-0300
TZOFFSETTO:-0400
TZNAME:AST
DTSTART:20231105T050000
END:STANDARD
END:VTIMEZONE
BEGIN:VEVENT
DTSTART;VALUE=DATE:20220401
DTEND;VALUE=DATE:20220402
DTSTAMP:20260420T002555
CREATED:20220310T192049Z
LAST-MODIFIED:20220314T162133Z
UID:4241-1648771200-1648857599@www.unitedwayhalifax.ca
SUMMARY:Zhuzh It Up Day
DESCRIPTION:Zhuzh It Up Day for United Way: The opposite of Casual Friday.\nWith so many folks now working from home\, every day is casual day. Or\, perhaps in our Zoom world\, it’s a hybrid of business casual on the top\, and comfy cozy on the bottom. Either way\, casual Fridays have lost their meaning. Aren’t you craving a bit of a fashion challenge? As we begin to reconnect with colleagues and friends in ways that suit your workplace – whether in-person\, hybrid\, or virtual – let’s put the fun back in fundraising and take on this fashion challenge in support of United Way Halifax. \nZhuzh\n/ʒʊʒ/ \nverb\nto make (something) more lively and interesting\, stylish\, or appealing\, as by a small change or addition (usually followed by the word ‘up’). In other words\, make it fancy! \nHow to Participate\n\nClick here to register your workplace and build your fundraising team page\n– registration cost is $100 donation\nPromote it in your workplace and encourage employees to sign up and post a photo of their zhuzhed up outfits\n– individual registration is $10 donation\n– all participants must be registered before Zhuzh It Up Day on April 1\nPromote and vote!\n– encourage your employees to vote for their favourite outfits in the categories of Best Canadian Tuxedo\, Best Haute Couture\, Best Business on top/Party on bottom\n– each vote cost a minimum $2 donation\n– or simply donate on your team page\nFriday\, April 1\, Zhuzh It Up Day: May the best dressed and top fundraisers win!\n– top fundraising team wins a HFX Wanderers Game Day Party Experience for 20 people (valued at $2\,000)\n– best dressed individual prizes include Zhuzh It Up gift baskets full of local gift certificates\n\nCommitted Partners
URL:https://www.unitedwayhalifax.ca/event/zhuzh-it-up-day/
CATEGORIES:Fundraiser
ATTACH;FMTTYPE=image/jpeg:https://www.unitedwayhalifax.ca/wp-content/uploads/2022/03/Web-header_1920x1080.jpg
END:VEVENT
BEGIN:VEVENT
DTSTART;TZID=America/Halifax:20220308T080000
DTEND;TZID=America/Halifax:20220329T170000
DTSTAMP:20260420T002555
CREATED:20220228T202221Z
LAST-MODIFIED:20220311T142642Z
UID:4224-1646726400-1648573200@www.unitedwayhalifax.ca
SUMMARY:Tampon Tuesday 2022
DESCRIPTION:With increases in the costs of groceries\, housing and transportation\, it’s more important than ever to consider the impacts of period poverty. You can help! Start your workplace or home collection of menstrual products\, and drop them off to one of the locations below. \nHalifax Public Libraries \nAll branches during open hours \nNSGEU \n255 John Savage Ave\, Dartmouth\nMon-Fri\, 8:30 a.m. – 5 p.m. \nOnce all products are collected by March 29\, we’ll count them\, package them up and deliver them to our community partners.
URL:https://www.unitedwayhalifax.ca/event/tampon-tuesday-2022/
CATEGORIES:Fundraiser
END:VEVENT
BEGIN:VEVENT
DTSTART;TZID=America/Halifax:20211122T090000
DTEND;TZID=America/Halifax:20211122T140000
DTSTAMP:20260420T002555
CREATED:20210922T120223Z
LAST-MODIFIED:20211117T131228Z
UID:3966-1637571600-1637589600@www.unitedwayhalifax.ca
SUMMARY:Housing Symposium
DESCRIPTION:Registration now open!\nThe Halifax Housing and Homelessness Partnership will be hosting its annual Housing Symposium on November 22nd from 9:00 am to 2:00 pm via Livestream. \nThis year’s symposium will include topics such as: lessons learned through agency-led development projects; regional capacity building opportunities; the challenges faced by frontline professionals; a NS housing market outlook; progressive policy options; and more. \nThis is a critical time in housing\, with tremendous challenges and huge possibilities. \nRegister online today. We hope you can join us on November 22nd.
URL:https://www.unitedwayhalifax.ca/event/housing-symposium/
LOCATION:Online
CATEGORIES:Community
ATTACH;FMTTYPE=image/jpeg:https://www.unitedwayhalifax.ca/wp-content/uploads/2021/05/breno-assis-r3WAWU5Fi5Q-unsplash-scaled.jpg
END:VEVENT
BEGIN:VEVENT
DTSTART;TZID=America/Halifax:20211018T080000
DTEND;TZID=America/Halifax:20211206T120000
DTSTAMP:20260420T002555
CREATED:20211019T133141Z
LAST-MODIFIED:20211019T133620Z
UID:4047-1634544000-1638792000@www.unitedwayhalifax.ca
SUMMARY:50/50 in support of Nova Scotia United Ways
DESCRIPTION:When you purchase 50/50 tickets\, you are providing safe shelter\, fresh food\, crucial connection\, and mental health supports to those in our community who depend on the programs funded by United Way. \nTicket Prices:\n100 for $50\n20 for $20\n3 for $10\n1 for $5 \nThe Nova Scotia United Way 50/50 is a win for your community\, and potentially a win for you! Don’t miss your chance\, purchase your tickets now! \nTickets available: October 18 – December 6\nDraw date: Wednesday\, December 8\nRules & Notes: \n– to participate\, you must be a resident of Nova Scotia\n– there will be one draw\n– the winner will receive 50% of the total value of ticket sales\n– the winner will be determined by a random draw\n– if applicable\, use your work email address so your 50/50 ticket purchase is counted towards your workplace’s campaign total\n– if you are part of the Government of Canada Workplace Charitable Campaign please use your work email address so that the funds raised by Government of Canada employees are split between United Way and Health Partners.
URL:https://www.unitedwayhalifax.ca/event/50-50-in-support-of-nova-scotia-united-ways/
LOCATION:Online
CATEGORIES:Fundraiser
ATTACH;FMTTYPE=image/jpeg:https://www.unitedwayhalifax.ca/wp-content/uploads/2021/10/Gerry.CarolinaAndrade-8697_WEB.jpg
END:VEVENT
BEGIN:VEVENT
DTSTART;TZID=America/Halifax:20210924T150000
DTEND;TZID=America/Halifax:20210924T160000
DTSTAMP:20260420T002555
CREATED:20210902T104501Z
LAST-MODIFIED:20210923T134917Z
UID:3541-1632495600-1632499200@www.unitedwayhalifax.ca
SUMMARY:United by Song
DESCRIPTION:United by Song is a LIVE broadcast\, featuring four storytellers from across Atlantic Canada courageously sharing their stories about how programs funded by United Way donors have made a huge difference in their lives. Each person will be accompanied by a talented\, local artist debuting an original song about the storyteller’s experience. This virtual experience offers a unique opportunity for you to discover the life-changing impact of donating to United Way. \nREGISTER HERE \nLIVESTREAM HERE: unitedbysong.ca \nCOVID-safe “watch parties” are encouraged\, and we’ve put together a toolkit to help you organize one with your co-workers\, friends\, or fellow United Way donors! The details of what’s possible will vary depending on where you’re physically located\, where you work\, and what type of gathering is COVID-safe – but we hope you’ll consider bringing at least a few people together so you can share in the United by Song experience and help make it even more memorable. \n  \n  \n 
URL:https://www.unitedwayhalifax.ca/event/united-by-song/
LOCATION:Online
CATEGORIES:Community
ATTACH;FMTTYPE=image/jpeg:https://www.unitedwayhalifax.ca/wp-content/uploads/2021/08/UBS_Eventbrite-header-image-01-scaled.jpg
END:VEVENT
BEGIN:VEVENT
DTSTART;TZID=America/Halifax:20210908T150000
DTEND;TZID=America/Halifax:20210908T163000
DTSTAMP:20260420T002555
CREATED:20210816T153126Z
LAST-MODIFIED:20210907T122012Z
UID:3412-1631113200-1631118600@www.unitedwayhalifax.ca
SUMMARY:Annual General Meeting
DESCRIPTION:You’re invited to United Way Halifax’s 95th Annual General Meeting\, which will once again be presented virtually on Wednesday\, September 8\, 2021 at 3:00 p.m. \nThis event is an opportunity to receive an update on our 2020-21 highlights and financial statements. You’ll hear a little more about how we’ve responded to the COVID-19 pandemic\, a panel discussion on our Neighbourhood Kitchen Fund and we’ll introduce our first-ever Equity\, Diversity and Inclusion report. We’ll also be introducing our incoming Board Chair and new board members\, and you’ll hear an update on our strategic plan. \n\n95th Annual General Meeting Agenda\n94th Annual General Meeting Minutes\nBoard of Directors nomination bylaws\nBoard Nomination Report (Governance Committee)\n2020-21 Financial Statements\n\nRegistration in advance is required\, so please RSVP using the link below. \n 
URL:https://www.unitedwayhalifax.ca/event/annual-general-meeting-2/
LOCATION:Online
CATEGORIES:Community
ATTACH;FMTTYPE=image/jpeg:https://www.unitedwayhalifax.ca/wp-content/uploads/2021/08/Agm-header-2.jpg
END:VEVENT
BEGIN:VEVENT
DTSTART;VALUE=DATE:20210323
DTEND;VALUE=DATE:20210331
DTSTAMP:20260420T002555
CREATED:20210323T115956Z
LAST-MODIFIED:20210323T193041Z
UID:3000-1616457600-1617148799@www.unitedwayhalifax.ca
SUMMARY:Tampon Tuesday 2021
DESCRIPTION:United Way Halifax presents Tampon Tuesday – a menstrual product drive in partnership with NSGEU\, Halifax Public Libraries and Events East.\nHundreds of women\, girls and non-binary and transgender individuals in our community experience period poverty regularly and can’t always access menstrual products when they need them.  \nTampon Tuesday is your opportunity to help. Donate menstrual products or gift cards over the next week at the collection points listed below or make a financial contribution on United Way Halifax’s website on Tuesday\, March 30.  \n\nHalifax Convention Centre\n1650 Argyle Street\, Halifax\nMon. – Fri.; 9 a.m. – 4 p.m.\nNSGEU Head Office\n255 John Savage Avenue\, Burnside\nMon.\, – Fri.; 8:30 a.m. – 5 p.m.\nHalifax Public Libraries\nCheck with your local branch for collection times.\n\n\nIf you’re planning a big product drive with your co-workers\, friend group\, or your family – we want to hear about it! Get in touch with us to arrange a photo at one of our collection points and be sure to share on social media. \nAmbuj Laroiya (he/him)\nRelationship & Development Officer\nalaroiya@unitedwayhalifax.ca\n(902) 461-3093 \nTo learn more about how period poverty affects people in our community\, check out our recent blog post.
URL:https://www.unitedwayhalifax.ca/event/tampon-tuesday/
CATEGORIES:Fundraiser
END:VEVENT
BEGIN:VEVENT
DTSTART;TZID=America/Halifax:20210311T120000
DTEND;TZID=America/Halifax:20210311T123000
DTSTAMP:20260420T002555
CREATED:20210303T132412Z
LAST-MODIFIED:20210303T203537Z
UID:2922-1615464000-1615465800@www.unitedwayhalifax.ca
SUMMARY:Conversations on Housing & Homelessness in 2021
DESCRIPTION:Halifax Housing and Homelessness Partnership Presents: Conversations on Housing & Homelessness in 2021\n\n\n\n\n\n\nThe Housing and Homelessness Partnership invites you to join us on March 11 at 12:00 p.m. as Max Chauvin interviews Mayor Mike Savage and HRM Councillor Waye Mason. This virtual interview will cover some of the initiatives the municipality has undertaken to address affordable housing and homelessness\, including: \n\nEliminating fees for non-profit housing organizations\,\nHow the municipality is using some surplus lands\,\nThe Rapid Housing Initiative\, and more.\n\nPlease register here to save the date and receive reminder emails! \n  \nThe YouTube link to this livestream event is as follows: https://youtu.be/JAUTiF1Rkes \n  \nPlease note: If you want to participate in the live chat on March 11\, you will need a Google Account to sign in to YouTube. (To sign into YouTube\, enter your Google Account email and password. \n  \nWe hope you find this interview interesting and informative. If you are not able to tune in on March 11\, the video link will be available here: https://youtu.be/JAUTiF1Rkes \n  \nThe Housing & Homelessness Partnership will also be offering similar virtual opportunities for housing conversations which are tentatively scheduled for April 7\, May 6\, and June 10. \n  \nThis event is made possible thanks to the generosity of Atlantic Live Stream.
URL:https://www.unitedwayhalifax.ca/event/conversations-on-housing-homelessness-in-2021/
LOCATION:Online
CATEGORIES:Community
END:VEVENT
BEGIN:VEVENT
DTSTART;TZID=America/Halifax:20201123T093000
DTEND;TZID=America/Halifax:20201123T123000
DTSTAMP:20260420T002555
CREATED:20200923T115514Z
LAST-MODIFIED:20201014T185656Z
UID:2306-1606123800-1606134600@www.unitedwayhalifax.ca
SUMMARY:2020 Housing Symposium
DESCRIPTION:Housing & COVID-19: Community Experiences – Future Opportunities\nThe Housing Symposium is an educational and networking event focusing on some of the most pressing issues around homelessness and affordable housing in Halifax Regional Municipality. By bringing together critical voices in the field\, participants learn about current best practices\, trends\, issues\, and solutions to the issues surrounding affordable housing and homelessness in Halifax. \nThis year\, in the face of COVID-19\, we are highlighting some of the community responses and experiences during this unprecedented time and what we are learning from these experiences to prepare us for the future. \nThe Housing Symposium will be of interest to participants from the public service and health\, housing providers\, and other agencies\, organizations\, and individuals with a concern about housing and how community is addressing these needs. \nDue to COVID-19\, this year’s event will be presented via livestream. Please click here to register.\n(For those without access to internet\, data or the required technology\, there will be viewing sites available for participation; stay tuned for details). \n \n  \nAbout the Housing & Homelessness Partnership\nThe Housing and Homelessness Partnership (HHP) is a collaborative that engages the community at all levels. Nine partners from the three orders of government\, private\, and non-profit sector\, come together to work with community partners to address homelessness and housing poverty in Halifax. Partners include: \n\nAffordable Housing Association Nova Scotia\nCanada Mortgage & Housing Corporation\nCommunity Housing Representative\nHalifax Regional Municipality\nHousing Nova Scotia\nInvestment Property Owners Association of Nova Scotia\nIWK Health Centre\nNova Scotia Health Authority\nUnited Way Halifax
URL:https://www.unitedwayhalifax.ca/event/2020-housing-symposium/
LOCATION:Online
CATEGORIES:Educational
ATTACH;FMTTYPE=image/jpeg:https://www.unitedwayhalifax.ca/wp-content/uploads/2020/09/Apartment-Building_unsplash_2-scaled.jpg
END:VEVENT
BEGIN:VEVENT
DTSTART;TZID=America/Halifax:20201021T090000
DTEND;TZID=America/Halifax:20201021T120000
DTSTAMP:20260420T002555
CREATED:20201009T143752Z
LAST-MODIFIED:20201009T143752Z
UID:2415-1603270800-1603281600@www.unitedwayhalifax.ca
SUMMARY:IABC Gift of Communication
DESCRIPTION:Each year\, IABC Maritime Canada partners with United Way Halifax to offer a communications panel. As part of our partnership\, it is made available for free to agencies and partners in the social sector. This year it’s coming up on October 21\, 2020 9 a.m.-12 p.m. \nThis year’s virtual event will feature communications professionals from different sectors discussing how they have navigated crisis communications during COVID-19. Join us for a deep dive into the pandemic’s impact on organizations in fields such as non-profit\, health care\, real estate and public relations. \nOur four speakers have extensive communications experience and will share lessons learned\, challenges\, successes\, and advice from the pandemic’s first wave and insights on how be ready for a second wave. \nSpeakers and their respective sectors: \n\nNon-profit: Lydia Philip\, Black Business Initiative\nPublic relations: Karen White\, NATIONAL\nHealth care: Deidre Taylor\, Nova Scotia Health\nReal estate: Tanya Taylor White\, Nova Scotia Association of Realtors\n\n  \nThe event is free for United Way agencies and community partners. Registration is required and is now open:
URL:https://www.unitedwayhalifax.ca/event/iabc-gift-of-communication/
LOCATION:Online
ATTACH;FMTTYPE=image/jpeg:https://www.unitedwayhalifax.ca/wp-content/uploads/2020/10/IABC-Gift-of-Communication-scaled.jpg
END:VEVENT
BEGIN:VEVENT
DTSTART;TZID=America/Halifax:20201014T100000
DTEND;TZID=America/Halifax:20201014T113000
DTSTAMP:20260420T002555
CREATED:20200923T122312Z
LAST-MODIFIED:20200923T150602Z
UID:2311-1602669600-1602675000@www.unitedwayhalifax.ca
SUMMARY:Recognizing Nova Scotia's Invisible Champions
DESCRIPTION:October 14 marks Nova Scotia’s first annual Provincial Day of Recognition for the Non-profit Sector and the announcement of the Bhayana Family Foundation Invisible Champion Award winners! \nThe Bhayana Family Foundation Invisible Champion Awards recognize the extraordinary people and nonprofit organizations making a difference in our community. This will be our third year presenting the awards in HRM\, but we’re excited to be expanding the awards to be province-wide and presenting them alongside the Community Sector Council of Nova Scotia and the Province of Nova Scotia. \nPlease join us on Facebook Live as we celebrate the unsung heroes in the non-profit sector who work tirelessly to create possibility and make change in Nova Scotia! \nThe virtual celebrations will include: \n\na flag raising at Province House in Halifax\npresentation of the twenty Bhayana Family Foundation Invisible Champion Award winners\nremarks from the Honourable Myra Freeman\, former Lieutenant Governor of Nova Scotia; Premier Stephen McNeil; and the Honourable Leo A. Glavine\, Minister of Communities\, Culture and Heritage
URL:https://www.unitedwayhalifax.ca/event/recognizing-nova-scotias-invisible-champions/
LOCATION:Online
CATEGORIES:Community
ATTACH;FMTTYPE=image/jpeg:https://www.unitedwayhalifax.ca/wp-content/uploads/2020/09/Bhayana-2019-winners-scaled.jpg
END:VEVENT
BEGIN:VEVENT
DTSTART;TZID=America/Halifax:20200915T140000
DTEND;TZID=America/Halifax:20200915T150000
DTSTAMP:20260420T002555
CREATED:20200902T165319Z
LAST-MODIFIED:20200902T165632Z
UID:1796-1600178400-1600182000@www.unitedwayhalifax.ca
SUMMARY:Employee Campaign Volunteer Training
DESCRIPTION:This year we’re excited to host our 2020 employee campaign volunteers for a virtual session to get inspired for the upcoming United Way campaign season. \nAGENDA \n\nUnited Way Halifax: United Way and COVID-19 relief for community\nVirtual Fundraising: Ideas and insights for success\nReview of Materials and Resources: New videos\, new website and other helpful tools\n\nClick here to register for the training session\nAfter registering\, you will receive a confirmation email containing instructions on how to join the Zoom meeting. \nNote: If you are not able to attend on behalf of your workplace\, please feel free to pass along the invitation to another staff member or campaign volunteer or reach out to Nicole Cameron (ncameron@unitedwayhalifax.ca) to set up a one-on-one session.
URL:https://www.unitedwayhalifax.ca/event/employee-campaign-volunteer-training/
LOCATION:Online
CATEGORIES:Educational
ATTACH;FMTTYPE=image/jpeg:https://www.unitedwayhalifax.ca/wp-content/uploads/2020/09/Campaign-Warm-Up-Cropped-2.jpg
END:VEVENT
BEGIN:VEVENT
DTSTART;TZID=America/Halifax:20200909T153000
DTEND;TZID=America/Halifax:20200909T170000
DTSTAMP:20260420T002555
CREATED:20200811T143850Z
LAST-MODIFIED:20200908T120043Z
UID:1718-1599665400-1599670800@www.unitedwayhalifax.ca
SUMMARY:Annual General Meeting
DESCRIPTION:United Way Halifax is holding our first-ever Virtual Annual General Meeting on Wednesday\, September 9th and we hope you’ll be able to tune in. We know that a virtual format isn’t the same as seeing you in person\, but we hope you’ll appreciate the opportunity to hear what we’re up to while making public health a priority. \nThis event is an opportunity to receive an update on our 2019 highlights and financial statements. You’ll hear a little bit more about our outlook for 2020-21\, our collaboration with Atlantic United Ways during the COVID-19 pandemic\, and our commitment to addressing racism and inequity. We’re also pleased to be introducing several new board members. \nRegistration will be required to attend. If you did not receive a registration invitation and would like to attend\, please email Megan Jeffries mjeffries@unitedwayhalifax.ca \nAGM Documents\nPosted below are the documents that will be referenced at our AGM on September 9\, 2020. Please review in advance or during our meeting. \n94th Annual General Meeting – Meeting Agenda \n93rd United Way Halifax Annual General Meeting – Meeting Minutes \nUnited Way Halifax By-Laws  \nProposed By-Law Amendments \n2019 United Way Halifax Financial Statements \nReport from the Governance Committee
URL:https://www.unitedwayhalifax.ca/event/annual-general-meeting/
LOCATION:Online
CATEGORIES:Community
ATTACH;FMTTYPE=image/png:https://www.unitedwayhalifax.ca/wp-content/uploads/2020/08/AGM-hero-image-no-words.png
END:VEVENT
BEGIN:VEVENT
DTSTART;VALUE=DATE:20200902
DTEND;VALUE=DATE:20200916
DTSTAMP:20260420T002555
CREATED:20200820T110957Z
LAST-MODIFIED:20200820T161426Z
UID:1755-1599004800-1600214399@www.unitedwayhalifax.ca
SUMMARY:Open Water Swim for United Way
DESCRIPTION:COVID-19 isn’t going to stop this annual tradition of swimming for United Way! \nSince 2001\, employees of the province of Nova Scotia have jumped into the Halifax Harbour to raise money and bring the community together for United Way. With the realities of COVID-19 we knew this event wouldn’t look the same as previous years. But\, that didn’t stop these dedicated and passionate swimmers from showing their local love! They’ve rallied together to organize swims across the province and continue to raise money for United Way. \nAlmost 60 swimmers will take to the waters at five locations around Nova Scotia between September 2-15. Not only will they be swimming an impressive distance of 1.5 km\, they continue to set the bar high for United Way fundraising events thanks to generous swim sponsors like you! \nCLICK HERE TO SPONSOR A SWIMMER TODAY. \n2020 Open Water Swim Locations & Dates: \n\nLake Charles\, Sept. 2 & 5\nChester\, Sept. 5\nLong Lake\, Sept. 5\nKearney Lake\, Sept. 7\nSydney\, Sept. 15\n\nInterested in swimming?\nPlease contact Mary Lou Burke:\nmarylou.burke@novascotia.ca
URL:https://www.unitedwayhalifax.ca/event/open-water-swim-for-united-way/
LOCATION:Nova Scotia
CATEGORIES:Fundraiser
ATTACH;FMTTYPE=image/jpeg:https://www.unitedwayhalifax.ca/wp-content/uploads/2020/07/UW_HeroImage_10.jpg
END:VEVENT
END:VCALENDAR